{
 "currentVersion": 11.1,
 "serviceDescription": "Imagery/DEM_2023",
 "name": "Imagery/DEM_2023",
 "description": "",
 "extent": {
  "xmin": 2502500.0100000002,
  "ymin": 635000,
  "xmax": 2747500.0100000002,
  "ymax": 905000,
  "spatialReference": {
   "wkt": "PROJCS[\"NAD_1983_HARN_StatePlane_South_Carolina_FIPS_3900_Feet_Intl\",GEOGCS[\"GCS_North_American_1983_HARN\",DATUM[\"D_North_American_1983_HARN\",SPHEROID[\"GRS_1980\",6378137.0,298.257222101]],PRIMEM[\"Greenwich\",0.0],UNIT[\"Degree\",0.0174532925199433]],PROJECTION[\"Lambert_Conformal_Conic\"],PARAMETER[\"False_Easting\",2000000.0],PARAMETER[\"False_Northing\",0.0],PARAMETER[\"Central_Meridian\",-81.0],PARAMETER[\"Standard_Parallel_1\",32.5],PARAMETER[\"Standard_Parallel_2\",34.83333333333334],PARAMETER[\"Latitude_Of_Origin\",31.83333333333333],UNIT[\"Foot\",0.3048]],VERTCS[\"NAVD88 height - Geoid18 (foot)\",VDATUM[\"North American Vertical Datum 1988\"],PARAMETER[\"Vertical_Shift\",0.0],PARAMETER[\"Direction\",1.0],UNIT[\"foot\",0.3048]]"
  }
 },
 "initialExtent": {
  "xmin": 2502500.0100000002,
  "ymin": 635000,
  "xmax": 2747500.0100000002,
  "ymax": 905000,
  "spatialReference": {
   "wkt": "PROJCS[\"NAD_1983_HARN_StatePlane_South_Carolina_FIPS_3900_Feet_Intl\",GEOGCS[\"GCS_North_American_1983_HARN\",DATUM[\"D_North_American_1983_HARN\",SPHEROID[\"GRS_1980\",6378137.0,298.257222101]],PRIMEM[\"Greenwich\",0.0],UNIT[\"Degree\",0.0174532925199433]],PROJECTION[\"Lambert_Conformal_Conic\"],PARAMETER[\"False_Easting\",2000000.0],PARAMETER[\"False_Northing\",0.0],PARAMETER[\"Central_Meridian\",-81.0],PARAMETER[\"Standard_Parallel_1\",32.5],PARAMETER[\"Standard_Parallel_2\",34.83333333333334],PARAMETER[\"Latitude_Of_Origin\",31.83333333333333],UNIT[\"Foot\",0.3048]],VERTCS[\"NAVD88 height - Geoid18 (foot)\",VDATUM[\"North American Vertical Datum 1988\"],PARAMETER[\"Vertical_Shift\",0.0],PARAMETER[\"Direction\",1.0],UNIT[\"foot\",0.3048]]"
  }
 },
 "fullExtent": {
  "xmin": 2502500.0100000002,
  "ymin": 635000,
  "xmax": 2747500.0100000002,
  "ymax": 905000,
  "spatialReference": {
   "wkt": "PROJCS[\"NAD_1983_HARN_StatePlane_South_Carolina_FIPS_3900_Feet_Intl\",GEOGCS[\"GCS_North_American_1983_HARN\",DATUM[\"D_North_American_1983_HARN\",SPHEROID[\"GRS_1980\",6378137.0,298.257222101]],PRIMEM[\"Greenwich\",0.0],UNIT[\"Degree\",0.0174532925199433]],PROJECTION[\"Lambert_Conformal_Conic\"],PARAMETER[\"False_Easting\",2000000.0],PARAMETER[\"False_Northing\",0.0],PARAMETER[\"Central_Meridian\",-81.0],PARAMETER[\"Standard_Parallel_1\",32.5],PARAMETER[\"Standard_Parallel_2\",34.83333333333334],PARAMETER[\"Latitude_Of_Origin\",31.83333333333333],UNIT[\"Foot\",0.3048]],VERTCS[\"NAVD88 height - Geoid18 (foot)\",VDATUM[\"North American Vertical Datum 1988\"],PARAMETER[\"Vertical_Shift\",0.0],PARAMETER[\"Direction\",1.0],UNIT[\"foot\",0.3048]]"
  }
 },
 "sortableFields": "",
 "heightModelInfo": {
  "heightModel": "gravity_related_height",
  "vertCRS": "NAVD88 height - Geoid18 (foot)",
  "heightUnit": "foot"
 },
 "bandCount": 1,
 "pixelType": "F32",
 "minValues": [
  -42.54999923706055
 ],
 "maxValues": [
  137.9199981689453
 ],
 "meanValues": [
  45.35739627629578
 ],
 "stdvValues": [
  30.59527191054087
 ],
 "hasMultidimensions": false,
 "pixelSizeX": 4,
 "pixelSizeY": 4,
 "datasetFormat": "SDR",
 "uncompressedSize": 16537500000,
 "blockWidth": 128,
 "blockHeight": 128,
 "compressionType": "NONE",
 "bandNames": [
  "Band_1"
 ],
 "allowCopy": true,
 "allowAnalysis": true,
 "itemAccess": false,
 "minPixelSize": 0,
 "maxPixelSize": 0,
 "copyrightText": "",
 "serviceDataType": "esriImageServiceDataTypeGeneric",
 "serviceSourceType": "esriImageServiceSourceTypeDataset",
 "objectIdField": "",
 "fields": [],
 "capabilities": "Mensuration,Image,Metadata",
 "defaultMosaicMethod": "Center",
 "allowedMosaicMethods": "",
 "sortField": "",
 "sortValue": null,
 "sortAscending": true,
 "mosaicOperator": "First",
 "defaultCompressionQuality": 75,
 "defaultResamplingMethod": "Bilinear",
 "maxImageHeight": 4100,
 "maxImageWidth": 15000,
 "allowRasterFunction": true,
 "rasterFunctionInfos": [
  {
   "name": "None",
   "description": "",
   "help": ""
  }
 ],
 "rasterTypeInfos": [
  {
   "name": "Raster Dataset",
   "description": "Supports all ArcGIS Raster Datasets",
   "help": ""
  }
 ],
 "mensurationCapabilities": "Basic",
 "hasHistograms": true,
 "hasColormap": false,
 "hasRasterAttributeTable": false,
 "minScale": 0,
 "maxScale": 0,
 "exportTilesAllowed": false,
 "supportsStatistics": false,
 "supportsAdvancedQueries": false,
 "editFieldsInfo": null,
 "ownershipBasedAccessControlForRasters": null,
 "allowComputeTiePoints": false,
 "useStandardizedQueries": true,
 "advancedQueryCapabilities": {
  "useStandardizedQueries": true,
  "supportsStatistics": false,
  "supportsOrderBy": false,
  "supportsDistinct": false,
  "supportsPagination": false
 },
 "spatialReference": {
  "wkt": "PROJCS[\"NAD_1983_HARN_StatePlane_South_Carolina_FIPS_3900_Feet_Intl\",GEOGCS[\"GCS_North_American_1983_HARN\",DATUM[\"D_North_American_1983_HARN\",SPHEROID[\"GRS_1980\",6378137.0,298.257222101]],PRIMEM[\"Greenwich\",0.0],UNIT[\"Degree\",0.0174532925199433]],PROJECTION[\"Lambert_Conformal_Conic\"],PARAMETER[\"False_Easting\",2000000.0],PARAMETER[\"False_Northing\",0.0],PARAMETER[\"Central_Meridian\",-81.0],PARAMETER[\"Standard_Parallel_1\",32.5],PARAMETER[\"Standard_Parallel_2\",34.83333333333334],PARAMETER[\"Latitude_Of_Origin\",31.83333333333333],UNIT[\"Foot\",0.3048]],VERTCS[\"NAVD88 height - Geoid18 (foot)\",VDATUM[\"North American Vertical Datum 1988\"],PARAMETER[\"Vertical_Shift\",0.0],PARAMETER[\"Direction\",1.0],UNIT[\"foot\",0.3048]]"
 }
}
